BEGIN:VCALENDAR
VERSION:2.0
PRODID:-//BPO - ECPv6.15.20//NONSGML v1.0//EN
CALSCALE:GREGORIAN
METHOD:PUBLISH
X-ORIGINAL-URL:https://bpo.org
X-WR-CALDESC:Events for BPO
REFRESH-INTERVAL;VALUE=DURATION:PT1H
X-Robots-Tag:noindex
X-PUBLISHED-TTL:PT1H
BEGIN:VTIMEZONE
TZID:America/New_York
BEGIN:DAYLIGHT
TZOFFSETFROM:-0500
TZOFFSETTO:-0400
TZNAME:EDT
DTSTART:20260308T070000
END:DAYLIGHT
BEGIN:STANDARD
TZOFFSETFROM:-0400
TZOFFSETTO:-0500
TZNAME:EST
DTSTART:20261101T060000
END:STANDARD
BEGIN:DAYLIGHT
TZOFFSETFROM:-0500
TZOFFSETTO:-0400
TZNAME:EDT
DTSTART:20270314T070000
END:DAYLIGHT
BEGIN:STANDARD
TZOFFSETFROM:-0400
TZOFFSETTO:-0500
TZNAME:EST
DTSTART:20271107T060000
END:STANDARD
BEGIN:DAYLIGHT
TZOFFSETFROM:-0500
TZOFFSETTO:-0400
TZNAME:EDT
DTSTART:20280312T070000
END:DAYLIGHT
BEGIN:STANDARD
TZOFFSETFROM:-0400
TZOFFSETTO:-0500
TZNAME:EST
DTSTART:20281105T060000
END:STANDARD
END:VTIMEZONE
BEGIN:VEVENT
DTSTART;TZID=America/New_York:20270206T100000
DTEND;TZID=America/New_York:20270206T100000
DTSTAMP:20260425T203156
CREATED:20260218T171849Z
LAST-MODIFIED:20260218T171849Z
UID:51883-1801908000-1801908000@bpo.org
SUMMARY:BPO Little Kids
DESCRIPTION:This special morning session is designed for children ages 0 to 5 and the caregivers who love them. In the Kleinhans Mary Seaton Room\, BPO musicians and community partners lead playful\, age-appropriate musical activities that invite movement\, sound\, and discovery without the pressure of sitting still. Think of it as a gentle first doorway into live music\, with close up instruments\, friendly faces\, and simple experiences built for tiny ears and growing minds. It is as much about connection as it is about music. Caregivers and children share a calm\, joyful hour that feels enriching\, easy\, and surprisingly restorative.
URL:https://bpo.org/event/bpo-little-kids/2027-02-06/
LOCATION:Kleinhans Music Hall\, 3 Symphony Circle\, Buffalo\, NY\, 14201\, United States
CATEGORIES:2026-27 Season
ATTACH;FMTTYPE=image/jpeg:https://bpo.org/wp-content/uploads/2026/02/1080x1350FAMILYpdim3LTLKIDS-scaled.jpg
GEO:42.9024987;-78.881739
X-APPLE-STRUCTURED-LOCATION;VALUE=URI;X-ADDRESS=Kleinhans Music Hall 3 Symphony Circle Buffalo NY 14201 United States;X-APPLE-RADIUS=500;X-TITLE=3 Symphony Circle:geo:-78.881739,42.9024987
END:VEVENT
BEGIN:VEVENT
DTSTART;TZID=America/New_York:20270213T100000
DTEND;TZID=America/New_York:20270213T100000
DTSTAMP:20260425T203156
CREATED:20260218T171849Z
LAST-MODIFIED:20260218T171849Z
UID:51885-1802512800-1802512800@bpo.org
SUMMARY:BPO Little Kids
DESCRIPTION:This special morning session is designed for children ages 0 to 5 and the caregivers who love them. In the Kleinhans Mary Seaton Room\, BPO musicians and community partners lead playful\, age-appropriate musical activities that invite movement\, sound\, and discovery without the pressure of sitting still. Think of it as a gentle first doorway into live music\, with close up instruments\, friendly faces\, and simple experiences built for tiny ears and growing minds. It is as much about connection as it is about music. Caregivers and children share a calm\, joyful hour that feels enriching\, easy\, and surprisingly restorative.
URL:https://bpo.org/event/bpo-little-kids/2027-02-13/
LOCATION:Kleinhans Music Hall\, 3 Symphony Circle\, Buffalo\, NY\, 14201\, United States
CATEGORIES:2026-27 Season
ATTACH;FMTTYPE=image/jpeg:https://bpo.org/wp-content/uploads/2026/02/1080x1350FAMILYpdim3LTLKIDS-scaled.jpg
GEO:42.9024987;-78.881739
X-APPLE-STRUCTURED-LOCATION;VALUE=URI;X-ADDRESS=Kleinhans Music Hall 3 Symphony Circle Buffalo NY 14201 United States;X-APPLE-RADIUS=500;X-TITLE=3 Symphony Circle:geo:-78.881739,42.9024987
END:VEVENT
END:VCALENDAR