BEGIN:VCALENDAR
VERSION:2.0
PRODID:-//BPO - ECPv6.15.20//NONSGML v1.0//EN
CALSCALE:GREGORIAN
METHOD:PUBLISH
X-WR-CALNAME:BPO
X-ORIGINAL-URL:https://bpo.org
X-WR-CALDESC:Events for BPO
REFRESH-INTERVAL;VALUE=DURATION:PT1H
X-Robots-Tag:noindex
X-PUBLISHED-TTL:PT1H
BEGIN:VTIMEZONE
TZID:America/New_York
BEGIN:DAYLIGHT
TZOFFSETFROM:-0500
TZOFFSETTO:-0400
TZNAME:EDT
DTSTART:20260308T070000
END:DAYLIGHT
BEGIN:STANDARD
TZOFFSETFROM:-0400
TZOFFSETTO:-0500
TZNAME:EST
DTSTART:20261101T060000
END:STANDARD
BEGIN:DAYLIGHT
TZOFFSETFROM:-0500
TZOFFSETTO:-0400
TZNAME:EDT
DTSTART:20270314T070000
END:DAYLIGHT
BEGIN:STANDARD
TZOFFSETFROM:-0400
TZOFFSETTO:-0500
TZNAME:EST
DTSTART:20271107T060000
END:STANDARD
BEGIN:DAYLIGHT
TZOFFSETFROM:-0500
TZOFFSETTO:-0400
TZNAME:EDT
DTSTART:20280312T070000
END:DAYLIGHT
BEGIN:STANDARD
TZOFFSETFROM:-0400
TZOFFSETTO:-0500
TZNAME:EST
DTSTART:20281105T060000
END:STANDARD
END:VTIMEZONE
BEGIN:VEVENT
DTSTART;TZID=America/New_York:20270115T103000
DTEND;TZID=America/New_York:20270115T103000
DTSTAMP:20260419T103552
CREATED:20260206T140024Z
LAST-MODIFIED:20260205T211501Z
UID:51543-1800009000-1800009000@bpo.org
SUMMARY:Dvořák Violin Concerto
DESCRIPTION:[vc_row][vc_column][vc_column_text]Valentina Peleggi\, conductor\nBella Hristova\, violin \nDVOŘÁK  Violin Concerto DVOŘÁK  Symphony No. 5 \nDvořák’s Violin Concerto combines lyrical warmth with quicksilver energy\, and violinist Bella Hristova brings the solo role to life with both brilliance and intimacy. Conductor Valentina Peleggi shapes the program with a clear sense of momentum and color. Dvořák’s Fifth Symphony completes the evening with bright spirit and generous melody\, expanding the sound into a wide horizon. Together\, the concerto and symphony create a richly satisfying journey\, soloist and orchestra in conversation\, then the full ensemble opening outward in radiant orchestral bloom.[/vc_column_text][vc_separator css=””][vc_raw_html css=””]JTNDaWZyYW1lJTIwZGF0YS10ZXN0aWQlM0QlMjJlbWJlZC1pZnJhbWUlMjIlMjBzdHlsZSUzRCUyMmJvcmRlci1yYWRpdXMlM0ExMnB4JTIyJTIwc3JjJTNEJTIyaHR0cHMlM0ElMkYlMkZvcGVuLnNwb3RpZnkuY29tJTJGZW1iZWQlMkZwbGF5bGlzdCUyRjNPNGxUZlJQcWd1NWdxcVlWaDBOeE4lM0Z1dG1fc291cmNlJTNEZ2VuZXJhdG9yJTIyJTIwd2lkdGglM0QlMjIxMDAlMjUlMjIlMjBoZWlnaHQlM0QlMjI0MDAlMjIlMjBmcmFtZUJvcmRlciUzRCUyMjAlMjIlMjBhbGxvd2Z1bGxzY3JlZW4lM0QlMjIlMjIlMjBhbGxvdyUzRCUyMmF1dG9wbGF5JTNCJTIwY2xpcGJvYXJkLXdyaXRlJTNCJTIwZW5jcnlwdGVkLW1lZGlhJTNCJTIwZnVsbHNjcmVlbiUzQiUyMHBpY3R1cmUtaW4tcGljdHVyZSUyMiUyMGxvYWRpbmclM0QlMjJsYXp5JTIyJTNFJTNDJTJGaWZyYW1lJTNF[/vc_raw_html][/vc_column][/vc_row]
URL:https://bpo.org/event/dvorak-violin-concerto/2027-01-15/
LOCATION:Kleinhans Music Hall\, 3 Symphony Circle\, Buffalo\, NY\, 14201\, United States
CATEGORIES:2026-27 Season,2026-27 Classics Series
ATTACH;FMTTYPE=image/jpeg:https://bpo.org/wp-content/uploads/2026/02/1080x1350CLASS2627pdim7-scaled.jpg
GEO:42.9024987;-78.881739
X-APPLE-STRUCTURED-LOCATION;VALUE=URI;X-ADDRESS=Kleinhans Music Hall 3 Symphony Circle Buffalo NY 14201 United States;X-APPLE-RADIUS=500;X-TITLE=3 Symphony Circle:geo:-78.881739,42.9024987
END:VEVENT
BEGIN:VEVENT
DTSTART;TZID=America/New_York:20270116T193000
DTEND;TZID=America/New_York:20270116T193000
DTSTAMP:20260419T103552
CREATED:20260206T140024Z
LAST-MODIFIED:20260205T211501Z
UID:51544-1800127800-1800127800@bpo.org
SUMMARY:Dvořák Violin Concerto
DESCRIPTION:[vc_row][vc_column][vc_column_text]Valentina Peleggi\, conductor\nBella Hristova\, violin \nDVOŘÁK  Violin Concerto DVOŘÁK  Symphony No. 5 \nDvořák’s Violin Concerto combines lyrical warmth with quicksilver energy\, and violinist Bella Hristova brings the solo role to life with both brilliance and intimacy. Conductor Valentina Peleggi shapes the program with a clear sense of momentum and color. Dvořák’s Fifth Symphony completes the evening with bright spirit and generous melody\, expanding the sound into a wide horizon. Together\, the concerto and symphony create a richly satisfying journey\, soloist and orchestra in conversation\, then the full ensemble opening outward in radiant orchestral bloom.[/vc_column_text][vc_separator css=””][vc_raw_html css=””]JTNDaWZyYW1lJTIwZGF0YS10ZXN0aWQlM0QlMjJlbWJlZC1pZnJhbWUlMjIlMjBzdHlsZSUzRCUyMmJvcmRlci1yYWRpdXMlM0ExMnB4JTIyJTIwc3JjJTNEJTIyaHR0cHMlM0ElMkYlMkZvcGVuLnNwb3RpZnkuY29tJTJGZW1iZWQlMkZwbGF5bGlzdCUyRjNPNGxUZlJQcWd1NWdxcVlWaDBOeE4lM0Z1dG1fc291cmNlJTNEZ2VuZXJhdG9yJTIyJTIwd2lkdGglM0QlMjIxMDAlMjUlMjIlMjBoZWlnaHQlM0QlMjI0MDAlMjIlMjBmcmFtZUJvcmRlciUzRCUyMjAlMjIlMjBhbGxvd2Z1bGxzY3JlZW4lM0QlMjIlMjIlMjBhbGxvdyUzRCUyMmF1dG9wbGF5JTNCJTIwY2xpcGJvYXJkLXdyaXRlJTNCJTIwZW5jcnlwdGVkLW1lZGlhJTNCJTIwZnVsbHNjcmVlbiUzQiUyMHBpY3R1cmUtaW4tcGljdHVyZSUyMiUyMGxvYWRpbmclM0QlMjJsYXp5JTIyJTNFJTNDJTJGaWZyYW1lJTNF[/vc_raw_html][/vc_column][/vc_row]
URL:https://bpo.org/event/dvorak-violin-concerto/2027-01-16/
LOCATION:Kleinhans Music Hall\, 3 Symphony Circle\, Buffalo\, NY\, 14201\, United States
CATEGORIES:2026-27 Season,2026-27 Classics Series
ATTACH;FMTTYPE=image/jpeg:https://bpo.org/wp-content/uploads/2026/02/1080x1350CLASS2627pdim7-scaled.jpg
GEO:42.9024987;-78.881739
X-APPLE-STRUCTURED-LOCATION;VALUE=URI;X-ADDRESS=Kleinhans Music Hall 3 Symphony Circle Buffalo NY 14201 United States;X-APPLE-RADIUS=500;X-TITLE=3 Symphony Circle:geo:-78.881739,42.9024987
END:VEVENT
END:VCALENDAR