BEGIN:VCALENDAR
VERSION:2.0
PRODID:-//BPO - ECPv6.15.20//NONSGML v1.0//EN
CALSCALE:GREGORIAN
METHOD:PUBLISH
X-WR-CALNAME:BPO
X-ORIGINAL-URL:https://bpo.org
X-WR-CALDESC:Events for BPO
REFRESH-INTERVAL;VALUE=DURATION:PT1H
X-Robots-Tag:noindex
X-PUBLISHED-TTL:PT1H
BEGIN:VTIMEZONE
TZID:America/New_York
BEGIN:DAYLIGHT
TZOFFSETFROM:-0500
TZOFFSETTO:-0400
TZNAME:EDT
DTSTART:20250309T070000
END:DAYLIGHT
BEGIN:STANDARD
TZOFFSETFROM:-0400
TZOFFSETTO:-0500
TZNAME:EST
DTSTART:20251102T060000
END:STANDARD
BEGIN:DAYLIGHT
TZOFFSETFROM:-0500
TZOFFSETTO:-0400
TZNAME:EDT
DTSTART:20260308T070000
END:DAYLIGHT
BEGIN:STANDARD
TZOFFSETFROM:-0400
TZOFFSETTO:-0500
TZNAME:EST
DTSTART:20261101T060000
END:STANDARD
BEGIN:DAYLIGHT
TZOFFSETFROM:-0500
TZOFFSETTO:-0400
TZNAME:EDT
DTSTART:20270314T070000
END:DAYLIGHT
BEGIN:STANDARD
TZOFFSETFROM:-0400
TZOFFSETTO:-0500
TZNAME:EST
DTSTART:20271107T060000
END:STANDARD
END:VTIMEZONE
BEGIN:VEVENT
DTSTART;TZID=America/New_York:20260206T103000
DTEND;TZID=America/New_York:20260206T103000
DTSTAMP:20260425T195012
CREATED:20250205T171406Z
LAST-MODIFIED:20260121T161149Z
UID:47757-1770373800-1770373800@bpo.org
SUMMARY:Shostakovich No. 5
DESCRIPTION:[vc_row][vc_column][vc_column_text css=””] \nComposed to express his gratitude upon receiving an honorary degree despite not attending university\, a mischievous Brahms penned the tongue‐in‐cheek Academic Festival Overture\, which features boisterous student drinking songs as well as folk songs turned songs of student protest. With the energy of the music and the expansive orchestration\, the piece tends to lean more into the celebratory side of the title than the scholarly. South American composer Miguel del Aguila’s Concierto en Tango for Cello and Orchestra was commissioned by the BPO and principal cellist Roman Mekinulov\, and received its world premiere by the BPO in 2014. The work’s lighthearted\, rhythmic syncopation avoids the melodrama of tango’s traditional form\, while capturing the nostalgia of its joyful expression\, uniquely conveyed by the cello’s depth. Shostakovich’s Symphony No. 5\, which closes the program\, is forcedly optimistic and tonal. It proved career and lifesaving for the under-fire Shostakovich because of its patriotic nature and its glorification of Stalin’s Soviet regime. \n[/vc_column_text][vc_separator css=””][vc_column_text css=””] \nProgram\nJoAnn Falletta\, conductor\nRoman Mekinulov\, cello \nBRAHMS  Academic Festival Overture\, Op. 80\nMIGUEL DEL ÁGUILA  Concierto en Tango for Cello and Orchestra\, Op. 110 \nINTERMISSION \nSHOSTAKOVICH  Symphony No. 5 in D minor\, Op. 47\nI. Moderato\nII. Allegretto\nIII. Largo\nIV. Allegro non troppo[/vc_column_text][vc_separator css=””][vc_raw_html css=””]JTNDaWZyYW1lJTIwZGF0YS10ZXN0aWQlM0QlMjJlbWJlZC1pZnJhbWUlMjIlMjBzdHlsZSUzRCUyMmJvcmRlci1yYWRpdXMlM0ExMnB4JTIyJTIwc3JjJTNEJTIyaHR0cHMlM0ElMkYlMkZvcGVuLnNwb3RpZnkuY29tJTJGZW1iZWQlMkZwbGF5bGlzdCUyRjA1aEtKMGszVDBnNllhQWpyUDlNY2glM0Z1dG1fc291cmNlJTNEZ2VuZXJhdG9yJTIyJTIwd2lkdGglM0QlMjIxMDAlMjUlMjIlMjBoZWlnaHQlM0QlMjI1MDAlMjIlMjBmcmFtZUJvcmRlciUzRCUyMjAlMjIlMjBhbGxvd2Z1bGxzY3JlZW4lM0QlMjIlMjIlMjBhbGxvdyUzRCUyMmF1dG9wbGF5JTNCJTIwY2xpcGJvYXJkLXdyaXRlJTNCJTIwZW5jcnlwdGVkLW1lZGlhJTNCJTIwZnVsbHNjcmVlbiUzQiUyMHBpY3R1cmUtaW4tcGljdHVyZSUyMiUyMGxvYWRpbmclM0QlMjJsYXp5JTIyJTNFJTNDJTJGaWZyYW1lJTNF[/vc_raw_html][vc_separator css=””][vc_column_text css=””] \nThe Classics Series is presented by the\n \nThe Coffee Concert Series is presented by\n \n[/vc_column_text][/vc_column][/vc_row]
URL:https://bpo.org/event/shostakovich-no-5/2026-02-06/
LOCATION:Kleinhans Music Hall\, 3 Symphony Circle\, Buffalo\, NY\, 14201\, United States
CATEGORIES:2025-2026 Season,2025-26 Classics Series
ATTACH;FMTTYPE=image/png:https://bpo.org/wp-content/uploads/2025/02/10-600x600WebBoxShostCLA3e-1-1.png
GEO:42.9024987;-78.881739
X-APPLE-STRUCTURED-LOCATION;VALUE=URI;X-ADDRESS=Kleinhans Music Hall 3 Symphony Circle Buffalo NY 14201 United States;X-APPLE-RADIUS=500;X-TITLE=3 Symphony Circle:geo:-78.881739,42.9024987
END:VEVENT
END:VCALENDAR